BEGIN:VCALENDAR
VERSION:2.0
PRODID:-//Nashville Rescue Mission - ECPv6.15.16.1//NONSGML v1.0//EN
CALSCALE:GREGORIAN
METHOD:PUBLISH
X-ORIGINAL-URL:https://nashvillerescuemission.org
X-WR-CALDESC:Events for Nashville Rescue Mission
REFRESH-INTERVAL;VALUE=DURATION:PT1H
X-Robots-Tag:noindex
X-PUBLISHED-TTL:PT1H
BEGIN:VTIMEZONE
TZID:UTC
BEGIN:STANDARD
TZOFFSETFROM:+0000
TZOFFSETTO:+0000
TZNAME:UTC
DTSTART:20240101T000000
END:STANDARD
END:VTIMEZONE
BEGIN:VEVENT
DTSTART;TZID=UTC:20251124T050000
DTEND;TZID=UTC:20251124T190000
DTSTAMP:20260424T120612
CREATED:20250904T191549Z
LAST-MODIFIED:20250904T191747Z
UID:31516-1763960400-1764010800@nashvillerescuemission.org
SUMMARY:SuperTalk 99.7 WTN Radiothon
DESCRIPTION:Broadcasting live from the Mission\, featuring interviews and vignettes of life transformation happening here!
URL:https://nashvillerescuemission.org/event/supertalk-99-7-wtn-radiothon-2025/
LOCATION:Nashville Rescue Mission—Linda & Mike Curb Men’s Center\, 639 Lafayette Street\, Nashville\, TN\, 37203\, United States
END:VEVENT
BEGIN:VEVENT
DTSTART;TZID=UTC:20251125T080000
DTEND;TZID=UTC:20251125T150000
DTSTAMP:20260424T120612
CREATED:20250904T204930Z
LAST-MODIFIED:20250909T210040Z
UID:31568-1764057600-1764082800@nashvillerescuemission.org
SUMMARY:20th Annual Mission:Possible Turkey Fry
DESCRIPTION:Join us for the 20th Annual Mission:Possible Turkey Fry to help provide a Thanksgiving meal to people in need!
URL:https://nashvillerescuemission.org/event/mission-possible-turkey-fry-2025/
LOCATION:The Fairgrounds Nashville\, 401 Wingrove Street\, Nashville\, TN\, 37203\, United States
END:VEVENT
BEGIN:VEVENT
DTSTART;TZID=UTC:20251125T190000
DTEND;TZID=UTC:20251125T220000
DTSTAMP:20260424T120612
CREATED:20250829T191701Z
LAST-MODIFIED:20250909T205819Z
UID:31512-1764097200-1764108000@nashvillerescuemission.org
SUMMARY:Tracy Lawrence's Mission:Possible Benefit Concert
DESCRIPTION:Following Mission:Possible’s 20th annual Turkey Fry is the evening benefit concert with Tracy Lawrence and Friends! \nBuy tickets here to attend! \nSponsor or purchase concert tickets to benefit our Great Thanksgiving Day Banquet and the holiday celebrations at the Mission.
URL:https://nashvillerescuemission.org/event/mission-possible-concert-2025/
LOCATION:Category 10\, 120 Second Avenue North\, Nashville\, TN\, 37201\, United States
END:VEVENT
BEGIN:VEVENT
DTSTART;TZID=UTC:20251126T110000
DTEND;TZID=UTC:20251126T120000
DTSTAMP:20260424T120612
CREATED:20250603T211147Z
LAST-MODIFIED:20250910T201343Z
UID:31187-1764154800-1764158400@nashvillerescuemission.org
SUMMARY:Men's & Women's Life Recovery—Celebration of Life Recovery Program Achievements
DESCRIPTION:Celebrate the Journey of Life Recovery \nRecovery is not a destination\, it’s a lifelong journey. While traditional “graduations” often mark an end\, we believe every milestone along the way deserves to be recognized and celebrated. \nJoin us as we honor the powerful progress made by men and women in our Life Recovery Program. From securing jobs and housing to completing program levels and experiencing spiritual transformation\, this is a time to uplift and encourage those on the path to lasting change. \nEvent Schedule:11:00 A.M. – Celebration of AchievementsRecognizing milestones\, including:• Life Recovery Program Level Advancements• High School Equivalency Completions• Job Placements• Transitional Housing Move-ins• Salvations and Rededications…and more! \nLet’s celebrate hope\, perseverance\, and new beginnings—together.
URL:https://nashvillerescuemission.org/event/celebration-of-life-recovery-program-achievements-november-2025/
LOCATION:Nashville Rescue Mission—Linda & Mike Curb Men’s Center\, 639 Lafayette Street\, Nashville\, TN\, 37203\, United States
END:VEVENT
BEGIN:VEVENT
DTSTART;TZID=UTC:20251126T120000
DTEND;TZID=UTC:20251126T130000
DTSTAMP:20260424T120612
CREATED:20250904T205736Z
LAST-MODIFIED:20250909T205711Z
UID:31518-1764158400-1764162000@nashvillerescuemission.org
SUMMARY:Great Thanksgiving Day Banquet
DESCRIPTION:Join us for the Great Thanksgiving Day Banquet\, directly following the Men’s and Women’s Celebration of Life Recovery Program Achievements.
URL:https://nashvillerescuemission.org/event/great-thanksgiving-day-banquet-2025/
LOCATION:Nashville Rescue Mission—Linda & Mike Curb Men’s Center\, 639 Lafayette Street\, Nashville\, TN\, 37203\, United States
END:VEVENT
END:VCALENDAR