BEGIN:VCALENDAR
VERSION:2.0
PRODID:-//Nashville Rescue Mission - ECPv6.15.16.1//NONSGML v1.0//EN
CALSCALE:GREGORIAN
METHOD:PUBLISH
X-WR-CALNAME:Nashville Rescue Mission
X-ORIGINAL-URL:https://nashvillerescuemission.org
X-WR-CALDESC:Events for Nashville Rescue Mission
REFRESH-INTERVAL;VALUE=DURATION:PT1H
X-Robots-Tag:noindex
X-PUBLISHED-TTL:PT1H
BEGIN:VTIMEZONE
TZID:UTC
BEGIN:STANDARD
TZOFFSETFROM:+0000
TZOFFSETTO:+0000
TZNAME:UTC
DTSTART:20240101T000000
END:STANDARD
END:VTIMEZONE
BEGIN:VEVENT
DTSTART;TZID=UTC:20251007T110000
DTEND;TZID=UTC:20251007T120000
DTSTAMP:20260424T102355
CREATED:20250103T192017Z
LAST-MODIFIED:20250103T192017Z
UID:30317-1759834800-1759838400@nashvillerescuemission.org
SUMMARY:I Had No Idea Tour-Men's Campus
DESCRIPTION:
URL:https://nashvillerescuemission.org/event/i-had-no-idea-tour-mens-campus-9/
LOCATION:Nashville Rescue Mission—Linda & Mike Curb Men’s Center\, 639 Lafayette Street\, Nashville\, TN\, 37203\, United States
END:VEVENT
BEGIN:VEVENT
DTSTART;TZID=UTC:20251011T190000
DTEND;TZID=UTC:20251011T210000
DTSTAMP:20260424T102355
CREATED:20250904T212929Z
LAST-MODIFIED:20250916T165447Z
UID:31507-1760209200-1760216400@nashvillerescuemission.org
SUMMARY:Nashville Praise Symphony Concert
DESCRIPTION:Experience the free\, annual Praise Symphony Orchestra benefit concert and support the life-changing work of Nashville Rescue Mission.
URL:https://nashvillerescuemission.org/event/nashville-praise-symphony-concert-2025/
LOCATION:Nashville Rescue Mission—Linda & Mike Curb Men’s Center\, 639 Lafayette Street\, Nashville\, TN\, 37203\, United States
END:VEVENT
BEGIN:VEVENT
DTSTART;TZID=UTC:20251014T110000
DTEND;TZID=UTC:20251014T120000
DTSTAMP:20260424T102355
CREATED:20250103T193744Z
LAST-MODIFIED:20250103T193744Z
UID:30340-1760439600-1760443200@nashvillerescuemission.org
SUMMARY:I Had No Idea Tour-Women's Campus
DESCRIPTION:
URL:https://nashvillerescuemission.org/event/i-had-no-idea-tour-womens-campus-9/
LOCATION:Nashville Rescue Mission—Linda & Mike Curb Women’s Center\, 1716 Rosa Parks Blvd.\, Nashville\, TN\, 37208\, United States
END:VEVENT
BEGIN:VEVENT
DTSTART;TZID=UTC:20251024T120000
DTEND;TZID=UTC:20251024T130000
DTSTAMP:20260424T102355
CREATED:20250603T211720Z
LAST-MODIFIED:20250603T211720Z
UID:31195-1761307200-1761310800@nashvillerescuemission.org
SUMMARY:Women's Life Recovery—Celebration of Life Recovery Program Achievements
DESCRIPTION:Celebrate the Journey of Life Recovery \nRecovery is not a destination\, it’s a lifelong journey. While traditional “graduations” often mark an end\, we believe every milestone along the way deserves to be recognized and celebrated. \nJoin us as we honor the powerful progress made by women in our Life Recovery Program. From securing jobs and housing to completing program levels and experiencing spiritual transformation\, this is a time to uplift and encourage those on the path to lasting change. \nEvent Schedule:\n12:00 P.M. – Celebration of Achievements\nRecognizing milestones including:\n• Life Recovery Program Level Advancements\n• High School Equivalency Completions\n• Job Placements\n• Transitional Housing Move-ins\n• Salvations and Rededications\n…and more! \nLet’s celebrate hope\, perseverance\, and new beginnings—together.
URL:https://nashvillerescuemission.org/event/womens-life-recovery-celebration-of-life-recovery-program-achievements-4/
LOCATION:Nashville Rescue Mission—Linda & Mike Curb Women’s Center\, 1716 Rosa Parks Blvd.\, Nashville\, TN\, 37208\, United States
END:VEVENT
BEGIN:VEVENT
DTSTART;TZID=UTC:20251024T140000
DTEND;TZID=UTC:20251024T150000
DTSTAMP:20260424T102355
CREATED:20250603T210938Z
LAST-MODIFIED:20250603T212132Z
UID:31183-1761314400-1761318000@nashvillerescuemission.org
SUMMARY:Men's Life Recovery - Celebration of Life Recovery Program Achievements
DESCRIPTION:Celebrate the Journey of Life Recovery \nRecovery is not a destination\, it’s a lifelong journey. While traditional “graduations” often mark an end\, we believe every milestone along the way deserves to be recognized and celebrated. \nJoin us as we honor the powerful progress made by men in our Life Recovery Program. From securing jobs and housing to completing program levels and experiencing spiritual transformation\, this is a time to uplift and encourage those on the path to lasting change. \n<strong>Event Schedule:</strong><strong>2:00 P.M.</strong> – Celebration of AchievementsRecognizing milestones including:• Life Recovery Program Level Advancements• High School Equivalency Completions• Job Placements• Transitional Housing Move-ins• Salvations and Rededications…and more! \nLet’s celebrate hope\, perseverance\, and new beginnings—together.
URL:https://nashvillerescuemission.org/event/mens-life-recovery-celebration-of-life-recovery-program-achievements-15/
LOCATION:Nashville Rescue Mission—Linda & Mike Curb Men’s Center\, 639 Lafayette Street\, Nashville\, TN\, 37203\, United States
END:VEVENT
END:VCALENDAR