BEGIN:VCALENDAR
VERSION:2.0
PRODID:-//Nashville Rescue Mission - ECPv6.15.16.1//NONSGML v1.0//EN
CALSCALE:GREGORIAN
METHOD:PUBLISH
X-WR-CALNAME:Nashville Rescue Mission
X-ORIGINAL-URL:https://nashvillerescuemission.org
X-WR-CALDESC:Events for Nashville Rescue Mission
REFRESH-INTERVAL;VALUE=DURATION:PT1H
X-Robots-Tag:noindex
X-PUBLISHED-TTL:PT1H
BEGIN:VTIMEZONE
TZID:UTC
BEGIN:STANDARD
TZOFFSETFROM:+0000
TZOFFSETTO:+0000
TZNAME:UTC
DTSTART:20240101T000000
END:STANDARD
END:VTIMEZONE
BEGIN:VEVENT
DTSTART;TZID=UTC:20250909T110000
DTEND;TZID=UTC:20250909T120000
DTSTAMP:20260424T085656
CREATED:20250103T191957Z
LAST-MODIFIED:20250402T162411Z
UID:30315-1757415600-1757419200@nashvillerescuemission.org
SUMMARY:I Had No Idea Tour-Men's Campus
DESCRIPTION:
URL:https://nashvillerescuemission.org/event/i-had-no-idea-tour-mens-campus-8/
LOCATION:Nashville Rescue Mission—Linda & Mike Curb Men’s Center\, 639 Lafayette Street\, Nashville\, TN\, 37203\, United States
END:VEVENT
BEGIN:VEVENT
DTSTART;TZID=UTC:20250916T110000
DTEND;TZID=UTC:20250916T120000
DTSTAMP:20260424T085656
CREATED:20250103T193718Z
LAST-MODIFIED:20250103T193718Z
UID:30338-1758020400-1758024000@nashvillerescuemission.org
SUMMARY:I Had No Idea Tour-Women's Campus
DESCRIPTION:
URL:https://nashvillerescuemission.org/event/i-had-no-idea-tour-womens-campus-8/
LOCATION:Nashville Rescue Mission—Linda & Mike Curb Women’s Center\, 1716 Rosa Parks Blvd.\, Nashville\, TN\, 37208\, United States
END:VEVENT
BEGIN:VEVENT
DTSTART;TZID=UTC:20250926T120000
DTEND;TZID=UTC:20250926T130000
DTSTAMP:20260424T085656
CREATED:20250603T211702Z
LAST-MODIFIED:20250603T211702Z
UID:31193-1758888000-1758891600@nashvillerescuemission.org
SUMMARY:Women's Life Recovery—Celebration of Life Recovery Program Achievements
DESCRIPTION:Celebrate the Journey of Life Recovery \nRecovery is not a destination\, it’s a lifelong journey. While traditional “graduations” often mark an end\, we believe every milestone along the way deserves to be recognized and celebrated. \nJoin us as we honor the powerful progress made by women in our Life Recovery Program. From securing jobs and housing to completing program levels and experiencing spiritual transformation\, this is a time to uplift and encourage those on the path to lasting change. \nEvent Schedule:\n12:00 P.M. – Celebration of Achievements\nRecognizing milestones including:\n• Life Recovery Program Level Advancements\n• High School Equivalency Completions\n• Job Placements\n• Transitional Housing Move-ins\n• Salvations and Rededications\n…and more! \nLet’s celebrate hope\, perseverance\, and new beginnings—together.
URL:https://nashvillerescuemission.org/event/womens-life-recovery-celebration-of-life-recovery-program-achievements-3/
LOCATION:Nashville Rescue Mission—Linda & Mike Curb Women’s Center\, 1716 Rosa Parks Blvd.\, Nashville\, TN\, 37208\, United States
END:VEVENT
BEGIN:VEVENT
DTSTART;TZID=UTC:20250926T140000
DTEND;TZID=UTC:20250926T150000
DTSTAMP:20260424T085656
CREATED:20250603T210918Z
LAST-MODIFIED:20250603T211945Z
UID:31181-1758895200-1758898800@nashvillerescuemission.org
SUMMARY:Men's Life Recovery - Celebration of Life Recovery Program Achievements
DESCRIPTION:Celebrate the Journey of Life Recovery \nRecovery is not a destination\, it’s a lifelong journey. While traditional “graduations” often mark an end\, we believe every milestone along the way deserves to be recognized and celebrated. \nJoin us as we honor the powerful progress made by men in our Life Recovery Program. From securing jobs and housing to completing program levels and experiencing spiritual transformation\, this is a time to uplift and encourage those on the path to lasting change. \n<strong>Event Schedule:</strong><strong>2:00 P.M.</strong> – Celebration of AchievementsRecognizing milestones including:• Life Recovery Program Level Advancements• High School Equivalency Completions• Job Placements• Transitional Housing Move-ins• Salvations and Rededications…and more! \nLet’s celebrate hope\, perseverance\, and new beginnings—together.
URL:https://nashvillerescuemission.org/event/mens-life-recovery-celebration-of-life-recovery-program-achievements-14/
LOCATION:Nashville Rescue Mission—Linda & Mike Curb Men’s Center\, 639 Lafayette Street\, Nashville\, TN\, 37203\, United States
END:VEVENT
END:VCALENDAR