BEGIN:VCALENDAR
VERSION:2.0
PRODID:-//Nashville Rescue Mission - ECPv6.15.16.1//NONSGML v1.0//EN
CALSCALE:GREGORIAN
METHOD:PUBLISH
X-WR-CALNAME:Nashville Rescue Mission
X-ORIGINAL-URL:https://nashvillerescuemission.org
X-WR-CALDESC:Events for Nashville Rescue Mission
REFRESH-INTERVAL;VALUE=DURATION:PT1H
X-Robots-Tag:noindex
X-PUBLISHED-TTL:PT1H
BEGIN:VTIMEZONE
TZID:UTC
BEGIN:STANDARD
TZOFFSETFROM:+0000
TZOFFSETTO:+0000
TZNAME:UTC
DTSTART:20240101T000000
END:STANDARD
END:VTIMEZONE
BEGIN:VEVENT
DTSTART;TZID=UTC:20251126T110000
DTEND;TZID=UTC:20251126T120000
DTSTAMP:20260424T151227
CREATED:20250603T211147Z
LAST-MODIFIED:20250910T201343Z
UID:31187-1764154800-1764158400@nashvillerescuemission.org
SUMMARY:Men's & Women's Life Recovery—Celebration of Life Recovery Program Achievements
DESCRIPTION:Celebrate the Journey of Life Recovery \nRecovery is not a destination\, it’s a lifelong journey. While traditional “graduations” often mark an end\, we believe every milestone along the way deserves to be recognized and celebrated. \nJoin us as we honor the powerful progress made by men and women in our Life Recovery Program. From securing jobs and housing to completing program levels and experiencing spiritual transformation\, this is a time to uplift and encourage those on the path to lasting change. \nEvent Schedule:11:00 A.M. – Celebration of AchievementsRecognizing milestones\, including:• Life Recovery Program Level Advancements• High School Equivalency Completions• Job Placements• Transitional Housing Move-ins• Salvations and Rededications…and more! \nLet’s celebrate hope\, perseverance\, and new beginnings—together.
URL:https://nashvillerescuemission.org/event/celebration-of-life-recovery-program-achievements-november-2025/
LOCATION:Nashville Rescue Mission—Linda & Mike Curb Men’s Center\, 639 Lafayette Street\, Nashville\, TN\, 37203\, United States
END:VEVENT
BEGIN:VEVENT
DTSTART;TZID=UTC:20251126T120000
DTEND;TZID=UTC:20251126T130000
DTSTAMP:20260424T151227
CREATED:20250904T205736Z
LAST-MODIFIED:20250909T205711Z
UID:31518-1764158400-1764162000@nashvillerescuemission.org
SUMMARY:Great Thanksgiving Day Banquet
DESCRIPTION:Join us for the Great Thanksgiving Day Banquet\, directly following the Men’s and Women’s Celebration of Life Recovery Program Achievements.
URL:https://nashvillerescuemission.org/event/great-thanksgiving-day-banquet-2025/
LOCATION:Nashville Rescue Mission—Linda & Mike Curb Men’s Center\, 639 Lafayette Street\, Nashville\, TN\, 37203\, United States
END:VEVENT
END:VCALENDAR