BEGIN:VCALENDAR
VERSION:2.0
PRODID:-//Nashville Rescue Mission - ECPv6.15.16.1//NONSGML v1.0//EN
CALSCALE:GREGORIAN
METHOD:PUBLISH
X-WR-CALNAME:Nashville Rescue Mission
X-ORIGINAL-URL:https://nashvillerescuemission.org
X-WR-CALDESC:Events for Nashville Rescue Mission
REFRESH-INTERVAL;VALUE=DURATION:PT1H
X-Robots-Tag:noindex
X-PUBLISHED-TTL:PT1H
BEGIN:VTIMEZONE
TZID:UTC
BEGIN:STANDARD
TZOFFSETFROM:+0000
TZOFFSETTO:+0000
TZNAME:UTC
DTSTART:20240101T000000
END:STANDARD
END:VTIMEZONE
BEGIN:VEVENT
DTSTART;TZID=UTC:20250205T190000
DTEND;TZID=UTC:20250205T210000
DTSTAMP:20260424T001426
CREATED:20250205T153715Z
LAST-MODIFIED:20250205T153715Z
UID:30421-1738782000-1738789200@nashvillerescuemission.org
SUMMARY:No Address Red Carpet Event
DESCRIPTION:
URL:https://nashvillerescuemission.org/event/no-address-red-carpet-event/
LOCATION:Regal Cinemas Green Hills\, 3815 Green Hills Village Dr\, Nashville\, Tennessee\, 37215
END:VEVENT
END:VCALENDAR