BEGIN:VCALENDAR
VERSION:2.0
PRODID:-//Nashville Rescue Mission - ECPv6.15.16.1//NONSGML v1.0//EN
CALSCALE:GREGORIAN
METHOD:PUBLISH
X-ORIGINAL-URL:https://nashvillerescuemission.org
X-WR-CALDESC:Events for Nashville Rescue Mission
REFRESH-INTERVAL;VALUE=DURATION:PT1H
X-Robots-Tag:noindex
X-PUBLISHED-TTL:PT1H
BEGIN:VTIMEZONE
TZID:UTC
BEGIN:STANDARD
TZOFFSETFROM:+0000
TZOFFSETTO:+0000
TZNAME:UTC
DTSTART:20210101T000000
END:STANDARD
END:VTIMEZONE
BEGIN:VEVENT
DTSTART;TZID=UTC:20220704T110000
DTEND;TZID=UTC:20220704T130000
DTSTAMP:20260423T085112
CREATED:20220613T180622Z
LAST-MODIFIED:20220613T180622Z
UID:25213-1656932400-1656939600@nashvillerescuemission.org
SUMMARY:4th of July Cookout and Celebration
DESCRIPTION:
URL:https://nashvillerescuemission.org/event/4th-of-july-cookout-and-celebration/
LOCATION:TN
END:VEVENT
END:VCALENDAR