BEGIN:VCALENDAR
VERSION:2.0
PRODID:-//Nashville Rescue Mission - ECPv6.15.16.1//NONSGML v1.0//EN
CALSCALE:GREGORIAN
METHOD:PUBLISH
X-ORIGINAL-URL:https://nashvillerescuemission.org
X-WR-CALDESC:Events for Nashville Rescue Mission
REFRESH-INTERVAL;VALUE=DURATION:PT1H
X-Robots-Tag:noindex
X-PUBLISHED-TTL:PT1H
BEGIN:VTIMEZONE
TZID:UTC
BEGIN:STANDARD
TZOFFSETFROM:+0000
TZOFFSETTO:+0000
TZNAME:UTC
DTSTART:20190101T000000
END:STANDARD
END:VTIMEZONE
BEGIN:VEVENT
DTSTART;TZID=UTC:20201118T060000
DTEND;TZID=UTC:20201118T190000
DTSTAMP:20260424T072138
CREATED:20201106T185622Z
LAST-MODIFIED:20201106T185622Z
UID:20796-1605679200-1605726000@nashvillerescuemission.org
SUMMARY:94FM The Fish Meal Challenge Radiothon
DESCRIPTION:
URL:https://nashvillerescuemission.org/event/94fm-the-fish-meal-challenge-radiothon/
LOCATION:TN
END:VEVENT
END:VCALENDAR